Package: FGNet Version: 3.44.0 Command: /Library/Frameworks/R.framework/Resources/bin/R CMD build --keep-empty-dirs --no-resave-data FGNet StartedAt: 2025-11-03 17:01:58 -0500 (Mon, 03 Nov 2025) EndedAt: 2025-11-03 17:02:26 -0500 (Mon, 03 Nov 2025) EllapsedTime: 28.5 seconds RetCode: 0 Status: OK PackageFile: FGNet_3.44.0.tar.gz PackageFileSize: 2.72 MiB