Package: FGNet Version: 3.42.0 Command: /Library/Frameworks/R.framework/Resources/bin/R CMD INSTALL FGNet StartedAt: 2025-10-09 15:30:01 -0400 (Thu, 09 Oct 2025) EndedAt: 2025-10-09 15:30:13 -0400 (Thu, 09 Oct 2025) EllapsedTime: 12.0 seconds RetCode: 0 Status: OK