Package: FGNet Version: 3.42.0 Command: /Library/Frameworks/R.framework/Resources/bin/R CMD build --keep-empty-dirs --no-resave-data FGNet StartedAt: 2025-10-10 00:31:51 -0400 (Fri, 10 Oct 2025) EndedAt: 2025-10-10 00:32:15 -0400 (Fri, 10 Oct 2025) EllapsedTime: 24.0 seconds RetCode: 0 Status: OK PackageFile: FGNet_3.42.0.tar.gz PackageFileSize: 2.721 MiB