Package: FGNet Version: 3.42.0 Command: rm -rf FGNet.buildbin-libdir && mkdir FGNet.buildbin-libdir && /Users/biocbuild/BBS/utils/build-universal.sh FGNet_3.42.0.tar.gz /Library/Frameworks/R.framework/Resources/bin/R FGNet.buildbin-libdir StartedAt: 2025-10-11 20:10:12 -0400 (Sat, 11 Oct 2025) EndedAt: 2025-10-11 20:10:23 -0400 (Sat, 11 Oct 2025) EllapsedTime: 11.2 seconds RetCode: 0 Status: OK PackageFile: FGNet_3.42.0.tgz PackageFileSize: 1.69 MiB