Package: FELLA Version: 1.30.0 Command: /home/biocbuild/bbs-3.22-bioc/R/bin/R CMD INSTALL FELLA StartedAt: 2025-11-11 15:29:27 -0500 (Tue, 11 Nov 2025) EndedAt: 2025-11-11 15:29:43 -0500 (Tue, 11 Nov 2025) EllapsedTime: 15.4 seconds RetCode: 0 Status: OK