Package: FELLA Version: 1.28.0 Command: /home/biocbuild/R/R/bin/R CMD build --keep-empty-dirs --no-resave-data FELLA StartedAt: 2025-10-14 00:51:08 -0000 (Tue, 14 Oct 2025) EndedAt: 2025-10-14 01:31:09 -0000 (Tue, 14 Oct 2025) EllapsedTime: 2400.7 seconds RetCode: None Status: TIMEOUT PackageFile: None PackageFileSize: NA