Package: FELLA Version: 1.30.0 Command: /Library/Frameworks/R.framework/Resources/bin/R CMD INSTALL FELLA StartedAt: 2025-10-30 15:08:49 -0400 (Thu, 30 Oct 2025) EndedAt: 2025-10-30 15:08:56 -0400 (Thu, 30 Oct 2025) EllapsedTime: 6.9 seconds RetCode: 0 Status: OK