Package: FEAST Version: 1.18.0 Command: /home/biocbuild/bbs-3.22-bioc/R/bin/R CMD INSTALL FEAST StartedAt: 2025-11-11 15:46:40 -0500 (Tue, 11 Nov 2025) EndedAt: 2025-11-11 15:47:11 -0500 (Tue, 11 Nov 2025) EllapsedTime: 31.0 seconds RetCode: 0 Status: OK