Package: ExpressionAtlas Version: 2.2.0 Command: /home/biocbuild/R/R/bin/R CMD INSTALL ExpressionAtlas StartedAt: 2025-11-10 22:00:00 -0000 (Mon, 10 Nov 2025) EndedAt: 2025-11-10 22:00:31 -0000 (Mon, 10 Nov 2025) EllapsedTime: 30.9 seconds RetCode: 0 Status: OK