Package: ExpressionAtlas Version: 2.2.0 Command: /home/biocbuild/R/R/bin/R CMD build --keep-empty-dirs --no-resave-data ExpressionAtlas StartedAt: 2025-11-14 01:45:20 -0000 (Fri, 14 Nov 2025) EndedAt: 2025-11-14 01:46:01 -0000 (Fri, 14 Nov 2025) EllapsedTime: 41.0 seconds RetCode: 0 Status: OK PackageFile: ExpressionAtlas_2.2.0.tar.gz PackageFileSize: 342.5 KiB