Package: ExpressionAtlas Version: 2.0.0 Command: rm -rf ExpressionAtlas.buildbin-libdir && mkdir ExpressionAtlas.buildbin-libdir && E:\biocbuild\bbs-3.21-bioc\R\bin\R.exe CMD INSTALL --build --library=ExpressionAtlas.buildbin-libdir ExpressionAtlas_2.0.0.tar.gz StartedAt: 2025-08-15 09:16:38 -0400 (Fri, 15 Aug 2025) EndedAt: 2025-08-15 09:17:10 -0400 (Fri, 15 Aug 2025) EllapsedTime: 32.3 seconds RetCode: 0 Status: OK PackageFile: ExpressionAtlas_2.0.0.zip PackageFileSize: 351.1 KiB