Package: ExpressionAtlas Version: 2.2.0 Command: /home/biocbuild/bbs-3.22-bioc/R/bin/R CMD INSTALL ExpressionAtlas StartedAt: 2025-11-11 15:54:56 -0500 (Tue, 11 Nov 2025) EndedAt: 2025-11-11 15:55:21 -0500 (Tue, 11 Nov 2025) EllapsedTime: 24.9 seconds RetCode: 0 Status: OK