Package: ExpressionAtlas Version: 2.2.0 Command: /home/biocbuild/bbs-3.22-bioc/R/bin/R CMD check --install=check:ExpressionAtlas.install-out.txt --library=/home/biocbuild/bbs-3.22-bioc/R/site-library --timings ExpressionAtlas_2.2.0.tar.gz StartedAt: 2025-11-11 23:39:45 -0500 (Tue, 11 Nov 2025) EndedAt: 2025-11-11 23:43:07 -0500 (Tue, 11 Nov 2025) EllapsedTime: 202.3 seconds RetCode: 0 Status: OK CheckDir: ExpressionAtlas.Rcheck Warnings: 0