Package: ExploreModelMatrix Version: 1.22.0 Command: /home/biocbuild/R/R/bin/R CMD INSTALL ExploreModelMatrix StartedAt: 2025-11-10 21:18:23 -0000 (Mon, 10 Nov 2025) EndedAt: 2025-11-10 21:18:38 -0000 (Mon, 10 Nov 2025) EllapsedTime: 14.3 seconds RetCode: 0 Status: OK