Package: ExploreModelMatrix Version: 1.20.0 Command: rm -rf ExploreModelMatrix.buildbin-libdir && mkdir ExploreModelMatrix.buildbin-libdir && E:\biocbuild\bbs-3.21-bioc\R\bin\R.exe CMD INSTALL --build --library=ExploreModelMatrix.buildbin-libdir ExploreModelMatrix_1.20.0.tar.gz StartedAt: 2025-08-15 09:16:36 -0400 (Fri, 15 Aug 2025) EndedAt: 2025-08-15 09:17:08 -0400 (Fri, 15 Aug 2025) EllapsedTime: 32.2 seconds RetCode: 0 Status: OK PackageFile: ExploreModelMatrix_1.20.0.zip PackageFileSize: 2.489 MiB