Package: ExperimentSubset Version: 1.20.0 Command: /home/biocbuild/R/R/bin/R CMD INSTALL ExperimentSubset StartedAt: 2025-11-13 21:32:10 -0000 (Thu, 13 Nov 2025) EndedAt: 2025-11-13 21:32:53 -0000 (Thu, 13 Nov 2025) EllapsedTime: 42.5 seconds RetCode: 0 Status: OK