Package: ExperimentSubset Version: 1.20.0 Command: /home/biocbuild/R/R/bin/R CMD build --keep-empty-dirs --no-resave-data ExperimentSubset StartedAt: 2025-11-14 01:44:51 -0000 (Fri, 14 Nov 2025) EndedAt: 2025-11-14 01:45:52 -0000 (Fri, 14 Nov 2025) EllapsedTime: 61.0 seconds RetCode: 0 Status: OK PackageFile: ExperimentSubset_1.20.0.tar.gz PackageFileSize: 332.9 KiB