Package: ExperimentSubset Version: 1.20.0 Command: /home/biocbuild/bbs-3.22-bioc/R/bin/R CMD INSTALL ExperimentSubset StartedAt: 2025-11-11 15:28:49 -0500 (Tue, 11 Nov 2025) EndedAt: 2025-11-11 15:29:21 -0500 (Tue, 11 Nov 2025) EllapsedTime: 32.2 seconds RetCode: 0 Status: OK