Package: ExperimentSubset Version: 1.18.1 Command: /home/biocbuild/bbs-3.21-bioc/R/bin/R CMD INSTALL ExperimentSubset StartedAt: 2025-10-12 15:24:05 -0400 (Sun, 12 Oct 2025) EndedAt: 2025-10-12 15:24:38 -0400 (Sun, 12 Oct 2025) EllapsedTime: 33.1 seconds RetCode: 0 Status: OK