Package: ExperimentSubset Version: 1.18.1 Command: /home/biocbuild/bbs-3.21-bioc/R/bin/R CMD build --keep-empty-dirs --no-resave-data ExperimentSubset StartedAt: 2025-10-12 17:28:41 -0400 (Sun, 12 Oct 2025) EndedAt: 2025-10-12 17:29:29 -0400 (Sun, 12 Oct 2025) EllapsedTime: 48.1 seconds RetCode: 0 Status: OK PackageFile: ExperimentSubset_1.18.1.tar.gz PackageFileSize: 307.3 KiB