Package: ExperimentSubset Version: 1.18.1 Command: /Library/Frameworks/R.framework/Resources/bin/R CMD INSTALL ExperimentSubset StartedAt: 2025-10-09 16:35:57 -0400 (Thu, 09 Oct 2025) EndedAt: 2025-10-09 16:36:38 -0400 (Thu, 09 Oct 2025) EllapsedTime: 40.8 seconds RetCode: 0 Status: OK