Package: ExperimentSubset Version: 1.18.1 Command: /Library/Frameworks/R.framework/Resources/bin/R CMD build --keep-empty-dirs --no-resave-data ExperimentSubset StartedAt: 2025-10-10 00:25:53 -0400 (Fri, 10 Oct 2025) EndedAt: 2025-10-10 00:26:51 -0400 (Fri, 10 Oct 2025) EllapsedTime: 58.4 seconds RetCode: 0 Status: OK PackageFile: ExperimentSubset_1.18.1.tar.gz PackageFileSize: 307.4 KiB