Package: ExperimentHubData Version: 1.34.0 Command: /home/biocbuild/bbs-3.21-bioc/R/bin/R CMD INSTALL ExperimentHubData StartedAt: 2025-10-08 15:44:29 -0400 (Wed, 08 Oct 2025) EndedAt: 2025-10-08 15:45:10 -0400 (Wed, 08 Oct 2025) EllapsedTime: 41.1 seconds RetCode: 0 Status: OK