Package: ExperimentHubData Version: 1.34.0 Command: /home/biocbuild/bbs-3.21-bioc/R/bin/R CMD build --keep-empty-dirs --no-resave-data ExperimentHubData StartedAt: 2025-10-08 17:28:18 -0400 (Wed, 08 Oct 2025) EndedAt: 2025-10-08 17:29:00 -0400 (Wed, 08 Oct 2025) EllapsedTime: 42.0 seconds RetCode: 0 Status: OK PackageFile: ExperimentHubData_1.34.0.tar.gz PackageFileSize: 223 KiB