Package: ExperimentHubData Version: 1.36.0 Command: /Library/Frameworks/R.framework/Resources/bin/R CMD build --keep-empty-dirs --no-resave-data ExperimentHubData StartedAt: 2025-11-20 20:00:31 -0500 (Thu, 20 Nov 2025) EndedAt: 2025-11-20 20:02:02 -0500 (Thu, 20 Nov 2025) EllapsedTime: 90.7 seconds RetCode: 0 Status: OK PackageFile: ExperimentHubData_1.36.0.tar.gz PackageFileSize: 223 KiB