Package: ExperimentHubData Version: 1.34.0 Command: /Library/Frameworks/R.framework/Resources/bin/R CMD INSTALL ExperimentHubData StartedAt: 2025-10-09 17:39:08 -0400 (Thu, 09 Oct 2025) EndedAt: 2025-10-09 17:39:57 -0400 (Thu, 09 Oct 2025) EllapsedTime: 49.2 seconds RetCode: 0 Status: OK