Package: ExperimentHubData Version: 1.34.0 Command: /Library/Frameworks/R.framework/Resources/bin/R CMD build --keep-empty-dirs --no-resave-data ExperimentHubData StartedAt: 2025-10-10 00:25:37 -0400 (Fri, 10 Oct 2025) EndedAt: 2025-10-10 00:26:28 -0400 (Fri, 10 Oct 2025) EllapsedTime: 51.3 seconds RetCode: 0 Status: OK PackageFile: ExperimentHubData_1.34.0.tar.gz PackageFileSize: 223 KiB