Package: ExperimentHubData Version: 1.34.0 Command: rm -rf ExperimentHubData.buildbin-libdir && mkdir ExperimentHubData.buildbin-libdir && /Users/biocbuild/BBS/utils/build-universal.sh ExperimentHubData_1.34.0.tar.gz /Library/Frameworks/R.framework/Resources/bin/R ExperimentHubData.buildbin-libdir StartedAt: 2025-10-11 20:08:20 -0400 (Sat, 11 Oct 2025) EndedAt: 2025-10-11 20:09:15 -0400 (Sat, 11 Oct 2025) EllapsedTime: 55.6 seconds RetCode: 0 Status: OK PackageFile: ExperimentHubData_1.34.0.tgz PackageFileSize: 518.8 KiB