Package: ExperimentHub Version: 3.0.0 Command: /home/biocbuild/bbs-3.22-bioc/R/bin/R CMD INSTALL ExperimentHub StartedAt: 2025-10-31 15:35:18 -0400 (Fri, 31 Oct 2025) EndedAt: 2025-10-31 15:35:33 -0400 (Fri, 31 Oct 2025) EllapsedTime: 15.5 seconds RetCode: 0 Status: OK