Package: ExperimentHub Version: 3.0.0 Command: /home/biocbuild/bbs-3.22-bioc/R/bin/R CMD build --keep-empty-dirs --no-resave-data --md5 ExperimentHub StartedAt: 2025-10-31 17:45:41 -0400 (Fri, 31 Oct 2025) EndedAt: 2025-10-31 17:46:12 -0400 (Fri, 31 Oct 2025) EllapsedTime: 31.0 seconds RetCode: 0 Status: OK PackageFile: ExperimentHub_3.0.0.tar.gz PackageFileSize: 491.3 KiB