Package: ExiMiR Version: 2.52.0 Command: /home/biocbuild/R/R/bin/R CMD INSTALL ExiMiR StartedAt: 2025-11-17 21:18:30 -0000 (Mon, 17 Nov 2025) EndedAt: 2025-11-17 21:18:38 -0000 (Mon, 17 Nov 2025) EllapsedTime: 8.5 seconds RetCode: 0 Status: OK