Package: ExiMiR Version: 2.52.0 Command: /home/biocbuild/R/R/bin/R CMD build --keep-empty-dirs --no-resave-data ExiMiR StartedAt: 2025-11-18 01:32:09 -0000 (Tue, 18 Nov 2025) EndedAt: 2025-11-18 01:33:55 -0000 (Tue, 18 Nov 2025) EllapsedTime: 106.0 seconds RetCode: 0 Status: OK PackageFile: ExiMiR_2.52.0.tar.gz PackageFileSize: 1.497 MiB