Package: ExiMiR Version: 2.52.0 Command: /home/biocbuild/bbs-3.22-bioc/R/bin/R CMD INSTALL ExiMiR StartedAt: 2025-11-11 15:17:01 -0500 (Tue, 11 Nov 2025) EndedAt: 2025-11-11 15:17:07 -0500 (Tue, 11 Nov 2025) EllapsedTime: 6.2 seconds RetCode: 0 Status: OK