Package: ExiMiR Version: 2.52.0 Command: /home/biocbuild/bbs-3.22-bioc/R/bin/R CMD check --install=check:ExiMiR.install-out.txt --library=/home/biocbuild/bbs-3.22-bioc/R/site-library --timings ExiMiR_2.52.0.tar.gz StartedAt: 2025-11-11 23:38:24 -0500 (Tue, 11 Nov 2025) EndedAt: 2025-11-11 23:40:10 -0500 (Tue, 11 Nov 2025) EllapsedTime: 106.1 seconds RetCode: 0 Status: OK CheckDir: ExiMiR.Rcheck Warnings: 0