Package: ExiMiR Version: 2.52.0 Command: /home/biocbuild/bbs-3.22-bioc/R/bin/R CMD build --keep-empty-dirs --no-resave-data --md5 ExiMiR StartedAt: 2025-11-11 17:40:11 -0500 (Tue, 11 Nov 2025) EndedAt: 2025-11-11 17:41:16 -0500 (Tue, 11 Nov 2025) EllapsedTime: 65.1 seconds RetCode: 0 Status: OK PackageFile: ExiMiR_2.52.0.tar.gz PackageFileSize: 1.508 MiB