Package: ExiMiR Version: 2.50.0 Command: /home/biocbuild/R/R/bin/R CMD build --keep-empty-dirs --no-resave-data ExiMiR StartedAt: 2025-09-30 01:12:14 -0000 (Tue, 30 Sep 2025) EndedAt: 2025-09-30 01:13:58 -0000 (Tue, 30 Sep 2025) EllapsedTime: 104.0 seconds RetCode: 0 Status: OK PackageFile: ExiMiR_2.50.0.tar.gz PackageFileSize: 1.497 MiB