Package: ExiMiR Version: 2.50.0 Command: rm -rf ExiMiR.buildbin-libdir && mkdir ExiMiR.buildbin-libdir && /Users/biocbuild/BBS/utils/build-universal.sh ExiMiR_2.50.0.tar.gz /Library/Frameworks/R.framework/Resources/bin/R ExiMiR.buildbin-libdir StartedAt: 2025-10-15 18:27:55 -0400 (Wed, 15 Oct 2025) EndedAt: 2025-10-15 18:28:02 -0400 (Wed, 15 Oct 2025) EllapsedTime: 7.7 seconds RetCode: 0 Status: OK PackageFile: ExiMiR_2.50.0.tgz PackageFileSize: 1.353 MiB