Package: ExCluster Version: 1.28.0 Command: /home/biocbuild/bbs-3.22-bioc/R/bin/R CMD check --install=check:ExCluster.install-out.txt --library=/home/biocbuild/bbs-3.22-bioc/R/site-library --timings ExCluster_1.28.0.tar.gz StartedAt: 2025-11-11 23:38:13 -0500 (Tue, 11 Nov 2025) EndedAt: 2025-11-11 23:41:43 -0500 (Tue, 11 Nov 2025) EllapsedTime: 210.2 seconds RetCode: 0 Status: OK CheckDir: ExCluster.Rcheck Warnings: 0