Package: ExCluster Version: 1.28.0 Command: /home/biocbuild/bbs-3.22-bioc/R/bin/R CMD build --keep-empty-dirs --no-resave-data --md5 ExCluster StartedAt: 2025-11-11 17:39:59 -0500 (Tue, 11 Nov 2025) EndedAt: 2025-11-11 17:40:41 -0500 (Tue, 11 Nov 2025) EllapsedTime: 42.0 seconds RetCode: 0 Status: OK PackageFile: ExCluster_1.28.0.tar.gz PackageFileSize: 405.8 KiB