Package: ExCluster Version: 1.26.0 Command: /Library/Frameworks/R.framework/Resources/bin/R CMD INSTALL ExCluster StartedAt: 2025-10-13 15:49:08 -0400 (Mon, 13 Oct 2025) EndedAt: 2025-10-13 15:50:10 -0400 (Mon, 13 Oct 2025) EllapsedTime: 62.2 seconds RetCode: 0 Status: OK