Package: ExCluster Version: 1.26.0 Command: rm -rf ExCluster.buildbin-libdir && mkdir ExCluster.buildbin-libdir && /Users/biocbuild/BBS/utils/build-universal.sh ExCluster_1.26.0.tar.gz /Library/Frameworks/R.framework/Resources/bin/R ExCluster.buildbin-libdir StartedAt: 2025-10-14 13:24:55 -0400 (Tue, 14 Oct 2025) EndedAt: 2025-10-14 13:26:30 -0400 (Tue, 14 Oct 2025) EllapsedTime: 95.1 seconds RetCode: 0 Status: OK PackageFile: ExCluster_1.26.0.tgz PackageFileSize: 486.6 KiB