Package: EventPointer Version: 3.18.0 Command: /home/biocbuild/R/R/bin/R CMD INSTALL EventPointer StartedAt: 2025-11-10 22:11:52 -0000 (Mon, 10 Nov 2025) EndedAt: 2025-11-10 22:13:04 -0000 (Mon, 10 Nov 2025) EllapsedTime: 71.7 seconds RetCode: 0 Status: OK