Package: EventPointer Version: 3.18.0 Command: /home/biocbuild/R/R/bin/R CMD build --keep-empty-dirs --no-resave-data EventPointer StartedAt: 2025-11-11 01:35:30 -0000 (Tue, 11 Nov 2025) EndedAt: 2025-11-11 01:37:14 -0000 (Tue, 11 Nov 2025) EllapsedTime: 104.0 seconds RetCode: 0 Status: OK PackageFile: EventPointer_3.18.0.tar.gz PackageFileSize: 1.666 MiB