Package: EventPointer Version: 3.16.0 Command: E:\biocbuild\bbs-3.21-bioc\R\bin\R.exe CMD INSTALL EventPointer StartedAt: 2025-08-14 17:06:59 -0400 (Thu, 14 Aug 2025) EndedAt: 2025-08-14 17:09:07 -0400 (Thu, 14 Aug 2025) EllapsedTime: 128.2 seconds RetCode: 0 Status: OK