Package: EventPointer Version: 3.16.0 Command: rm -rf EventPointer.buildbin-libdir && mkdir EventPointer.buildbin-libdir && E:\biocbuild\bbs-3.21-bioc\R\bin\R.exe CMD INSTALL --build --library=EventPointer.buildbin-libdir EventPointer_3.16.0.tar.gz StartedAt: 2025-08-15 09:16:18 -0400 (Fri, 15 Aug 2025) EndedAt: 2025-08-15 09:18:23 -0400 (Fri, 15 Aug 2025) EllapsedTime: 125.0 seconds RetCode: 0 Status: OK PackageFile: EventPointer_3.16.0.zip PackageFileSize: 1.327 MiB