Package: EventPointer Version: 3.18.0 Command: /home/biocbuild/bbs-3.22-bioc/R/bin/R CMD INSTALL EventPointer StartedAt: 2025-11-11 16:05:48 -0500 (Tue, 11 Nov 2025) EndedAt: 2025-11-11 16:06:40 -0500 (Tue, 11 Nov 2025) EllapsedTime: 52.3 seconds RetCode: 0 Status: OK