Package: EventPointer Version: 3.18.0 Command: /home/biocbuild/bbs-3.22-bioc/R/bin/R CMD check --install=check:EventPointer.install-out.txt --library=/home/biocbuild/bbs-3.22-bioc/R/site-library --timings EventPointer_3.18.0.tar.gz StartedAt: 2025-11-11 23:37:11 -0500 (Tue, 11 Nov 2025) EndedAt: 2025-11-11 23:43:26 -0500 (Tue, 11 Nov 2025) EllapsedTime: 375.4 seconds RetCode: 0 Status: OK CheckDir: EventPointer.Rcheck Warnings: 0