Package: EventPointer Version: 3.16.0 Command: /Library/Frameworks/R.framework/Resources/bin/R CMD INSTALL EventPointer StartedAt: 2025-09-29 16:49:27 -0400 (Mon, 29 Sep 2025) EndedAt: 2025-09-29 16:51:14 -0400 (Mon, 29 Sep 2025) EllapsedTime: 106.1 seconds RetCode: 0 Status: OK