Package: EventPointer Version: 3.16.0 Command: rm -rf EventPointer.buildbin-libdir && mkdir EventPointer.buildbin-libdir && /Users/biocbuild/BBS/utils/build-universal.sh EventPointer_3.16.0.tar.gz /Library/Frameworks/R.framework/Resources/bin/R EventPointer.buildbin-libdir StartedAt: 2025-09-30 13:09:34 -0400 (Tue, 30 Sep 2025) EndedAt: 2025-09-30 13:11:56 -0400 (Tue, 30 Sep 2025) EllapsedTime: 142.6 seconds RetCode: 0 Status: OK PackageFile: EventPointer_3.16.0.tgz PackageFileSize: 1.315 MiB