Package: EventPointer Version: 3.16.0 Command: /Library/Frameworks/R.framework/Resources/bin/R CMD INSTALL EventPointer StartedAt: 2025-04-21 15:47:31 -0400 (Mon, 21 Apr 2025) EndedAt: 2025-04-21 15:48:37 -0400 (Mon, 21 Apr 2025) EllapsedTime: 66.1 seconds RetCode: 0 Status: OK